Workbook

Sheet January
A1: MONTHLY TIMESHEET - SALARIED EMPLOYEES
A2: This document is UNCONTROLLED in hard copy format
A4: Employee Details
A5: Employee Name | O5: Pay Period | S5: January 2024
A6: Position | O6: Supervisor
C7: Omni GeoX | Q7: Other (please specify)
A9: Please mark applicable hours (12)
A10: Description / Project | B10: Cost Centre | C10: 1 | D10: 2 | E10: 3 | F10: 4 | G10: 5 | H10: 6 | I10: 7 | J10: 8 | K10: 9 | L10: 10 | M10: 11 | N10: 12 | O10: 13 | P10: 14 | Q10: 15 | R10: 16 | S10: 17 | T10: 18 | U10: 19 | V10: 20 | W10: 21 | X10: 22 | Y10: 23 | Z10: 24 | AA10: 25 | AB10: 26 | AC10: 27 | AD10: 28 | AE10: 29 | AF10: 30 | AG10: 31 | AH10: Total
AH11: =SUM(C11:AG11) -> 0
AH12: =SUM(C12:AG12) -> 0
AH13: =SUM(C13:AG13) -> 0
AH14: =SUM(C14:AG14) -> 0
AH15: =SUM(C15:AG15) -> 0
AH16: =SUM(C16:AG16) -> 0
AH17: =SUM(C17:AG17) -> 0
AH18: =SUM(C18:AG18) -> 0
AH19: =SUM(C19:AG19) -> 0
A20: DAYS IN LIEU EARNT | AH20: =SUM(C20:AG20) -> 0
A21: DAYS IN LIEU TAKEN | AH21: =SUM(C21:AG21) -> 0
A22: ANNUAL LEAVE | AH22: =SUM(C22:AG22) -> 0
A23: PERSONAL (SICK) LEAVE | AH23: =SUM(C23:AG23) -> 0
A24: TRAINING | AH24: =SUM(C24:AG24) -> 0
A25: OTHER | AH25: =SUM(C25:AG25) -> 0
A26: Total Days | C26: =SUM(C11:C19) -> 0 | D26: =SUM(D11:D19) -> 0 | E26: =SUM(E11:E19) -> 0 | F26: =SUM(F11:F19) -> 0 | G26: =SUM(G11:G19) -> 0 | H26: =SUM(H11:H19) -> 0 | I26: =SUM(I11:I19) -> 0 | J26: =SUM(J11:J19) -> 0 | ... AG26: =SUM(AG11:AG19) -> 0 | AH26: =SUM(AH11:AH19)/12+AH21+AH22+AH23+AH24+AH25 -> 0
A28: Activity Summary | AE28: DIL Carried Over | AG28: Total
AE29: DIL Earnt | AG29: Total | AH29: =AH20 -> 0
AE30: DIL Taken | AG30: Total | AH30: =AH21 -> 0
AE31: DIL Balance | AH31: =SUM(AH28:AH29)-AH30 -> 0
A33: Authorisation
A34: Employee Signature | I34: Date | N34: Manager Signature | AD34: Date
A37: Department | B37: Human Resources | F37: Current Issue Date | L37: October 2014 | U37: Document No | Z37: GX-HRM-FRM Timesheet Monthly
A38: Reviewed by | B38: Human Resources | F38: Next Review Date | L38: January 2016 | U38: Version No | Z38: 1
A39: Approved by | B39: Managing Director | F39: Risk Rating | L39: Low | U39: Initial Issue Date | Z39: October 2014

Sheet February
A1: MONTHLY TIMESHEET - SALARIED EMPLOYEES
A2: This document is UNCONTROLLED in hard copy format
A4: Employee Details
A5: Employee Name | B5: =January!B5 -> 0 | O5: Pay Period | S5: February 2024
A6: Position | B6: =January!B6 -> 0 | O6: Supervisor
C7: Omni GeoX | J7: Omni Assist | Q7: Other (please specify)
A9: Please mark applicable hours (12)
A10: Description / Project | B10: Cost Centre | C10: 1 | D10: 2 | E10: 3 | F10: 4 | G10: 5 | H10: 6 | I10: 7 | J10: 8 | K10: 9 | L10: 10 | M10: 11 | N10: 12 | O10: 13 | P10: 14 | Q10: 15 | R10: 16 | S10: 17 | T10: 18 | U10: 19 | V10: 20 | W10: 21 | X10: 22 | Y10: 23 | Z10: 24 | AA10: 25 | AB10: 26 | AC10: 27 | AD10: 28 | AE10: 29 | AF10: 30 | AG10: 31 | AH10: Total
AH11: =SUM(C11:AG11) -> 0
AH12: =SUM(C12:AG12) -> 0
AH13: =SUM(C13:AG13) -> 0
AH14: =SUM(C14:AG14) -> 0
AH15: =SUM(C15:AG15) -> 0
AH16: =SUM(C16:AG16) -> 0
AH17: =SUM(C17:AG17) -> 0
AH18: =SUM(C18:AG18) -> 0
AH19: =SUM(C19:AG19) -> 0
A20: DAYS IN LIEU EARNT | AH20: =SUM(C20:AG20) -> 0
A21: DAYS IN LIEU TAKEN | AH21: =SUM(C21:AG21) -> 0
A22: ANNUAL LEAVE | AH22: =SUM(C22:AG22) -> 0
A23: PERSONAL (SICK) LEAVE | AH23: =SUM(C23:AG23) -> 0
A24: TRAINING | AH24: =SUM(C24:AG24) -> 0
A25: OTHER | AH25: =SUM(C25:AG25) -> 0
A26: Total Days | C26: =SUM(C11:C19) -> 0 | D26: =SUM(D11:D19) -> 0 | E26: =SUM(E11:E19) -> 0 | F26: =SUM(F11:F19) -> 0 | G26: =SUM(G11:G19) -> 0 | H26: =SUM(H11:H19) -> 0 | I26: =SUM(I11:I19) -> 0 | J26: =SUM(J11:J19) -> 0 | ... AE26: =SUM(AE11:AE19) -> 0 | AH26: =SUM(AH11:AH19)/12+AH21+AH22+AH23+AH24+AH25 -> 0
A28: Activity Summary | AE28: DIL Carried Over | AG28: Total | AH28: =January!AH31 -> 0
AE29: DIL Earnt | AG29: Total | AH29: =AH20 -> 0
AE30: DIL Taken | AG30: Total | AH30: =AH21 -> 0
AE31: DIL Balance | AH31: =SUM(AH28:AH29)-AH30 -> 0
A33: Authorisation
A34: Employee Signature | I34: Date | N34: Manager Signature | AD34: Date
A37: Department | B37: Human Resources | F37: Current Issue Date | L37: October 2014 | U37: Document No | Z37: GX-HRM-FRM Timesheet Monthly
A38: Reviewed by | B38: Human Resources | F38: Next Review Date | L38: January 2016 | U38: Version No | Z38: 1
A39: Approved by | B39: Managing Director | F39: Risk Rating | L39: Low | U39: Initial Issue Date | Z39: October 2014

Sheet March
A1: MONTHLY TIMESHEET - SALARIED EMPLOYEES
A2: This document is UNCONTROLLED in hard copy format
A4: Employee Details
A5: Employee Name | B5: =February!B5 -> 0 | O5: Pay Period | S5: March 2024
A6: Position | B6: =January!B6 -> 0 | O6: Supervisor
C7: Omni GeoX | J7: Omni Assist | Q7: Other (please specify)
A9: Please mark applicable hours (12)
A10: Description / Project | B10: Cost Centre | C10: 1 | D10: 2 | E10: 3 | F10: 4 | G10: 5 | H10: 6 | I10: 7 | J10: 8 | K10: 9 | L10: 10 | M10: 11 | N10: 12 | O10: 13 | P10: 14 | Q10: 15 | R10: 16 | S10: 17 | T10: 18 | U10: 19 | V10: 20 | W10: 21 | X10: 22 | Y10: 23 | Z10: 24 | AA10: 25 | AB10: 26 | AC10: 27 | AD10: 28 | AE10: 29 | AF10: 30 | AG10: 31 | AH10: Total
AH11: =SUM(C11:AG11) -> 0
AH12: =SUM(C12:AG12) -> 0
AH13: =SUM(C13:AG13) -> 0
AH14: =SUM(C14:AG14) -> 0
AH15: =SUM(C15:AG15) -> 0
AH16: =SUM(C16:AG16) -> 0
AH17: =SUM(C17:AG17) -> 0
AH18: =SUM(C18:AG18) -> 0
AH19: =SUM(C19:AG19) -> 0
A20: DAYS IN LIEU EARNT | AH20: =SUM(C20:AG20) -> 0
A21: DAYS IN LIEU TAKEN | AH21: =SUM(C21:AG21) -> 0
A22: ANNUAL LEAVE | AH22: =SUM(C22:AG22) -> 0
A23: PERSONAL (SICK) LEAVE | AH23: =SUM(C23:AG23) -> 0
A24: TRAINING | AH24: =SUM(C24:AG24) -> 0
A25: OTHER | AH25: =SUM(C25:AG25) -> 0
A26: Total Days | C26: =SUM(C11:C19) -> 0 | D26: =SUM(D11:D19) -> 0 | E26: =SUM(E11:E19) -> 0 | F26: =SUM(F11:F19) -> 0 | G26: =SUM(G11:G19) -> 0 | H26: =SUM(H11:H19) -> 0 | I26: =SUM(I11:I19) -> 0 | J26: =SUM(J11:J19) -> 0 | ... AG26: =SUM(AG11:AG19) -> 0 | AH26: =SUM(AH11:AH19)/12+AH21+AH22+AH23+AH24+AH25 -> 0
A28: Activity Summary | AE28: DIL Carried Over | AG28: Total | AH28: =February!AH31 -> 0
AE29: DIL Earnt | AG29: Total | AH29: =AH20 -> 0
AE30: DIL Taken | AG30: Total | AH30: =AH21 -> 0
AE31: DIL Balance | AH31: =SUM(AH28:AH29)-AH30 -> 0
A33: Authorisation
A34: Employee Signature | I34: Date | N34: Manager Signature | AD34: Date
A37: Department | B37: Human Resources | F37: Current Issue Date | L37: October 2014 | U37: Document No | Z37: GX-HRM-FRM Timesheet Monthly
A38: Reviewed by | B38: Human Resources | F38: Next Review Date | L38: January 2016 | U38: Version No | Z38: 1
A39: Approved by | B39: Managing Director | F39: Risk Rating | L39: Low | U39: Initial Issue Date | Z39: October 2014

Sheet April
A1: MONTHLY TIMESHEET - SALARIED EMPLOYEES
A2: This document is UNCONTROLLED in hard copy format
A4: Employee Details
A5: Employee Name | B5: =March!B5 -> 0 | O5: Pay Period | S5: April 2024
A6: Position | B6: =January!B6 -> 0 | O6: Supervisor
C7: Omni GeoX | Q7: Other (please specify)
A9: Please mark applicable hours (12)
A10: Description / Project | B10: Cost Centre | C10: 1 | D10: 2 | E10: 3 | F10: 4 | G10: 5 | H10: 6 | I10: 7 | J10: 8 | K10: 9 | L10: 10 | M10: 11 | N10: 12 | O10: 13 | P10: 14 | Q10: 15 | R10: 16 | S10: 17 | T10: 18 | U10: 19 | V10: 20 | W10: 21 | X10: 22 | Y10: 23 | Z10: 24 | AA10: 25 | AB10: 26 | AC10: 27 | AD10: 28 | AE10: 29 | AF10: 30 | AG10: 31 | AH10: Total
AH11: =SUM(C11:AG11) -> 0
AH12: =SUM(C12:AG12) -> 0
AH13: =SUM(C13:AG13) -> 0
AH14: =SUM(C14:AG14) -> 0
AH15: =SUM(C15:AG15) -> 0
AH16: =SUM(C16:AG16) -> 0
AH17: =SUM(C17:AG17) -> 0
AH18: =SUM(C18:AG18) -> 0
AH19: =SUM(C19:AG19) -> 0
A20: DAYS IN LIEU EARNT | AH20: =SUM(C20:AG20) -> 0
A21: DAYS IN LIEU TAKEN | AH21: =SUM(C21:AG21) -> 0
A22: ANNUAL LEAVE | AH22: =SUM(C22:AG22) -> 0
A23: PERSONAL (SICK) LEAVE | AH23: =SUM(C23:AG23) -> 0
A24: TRAINING | AH24: =SUM(C24:AG24) -> 0
A25: OTHER | AH25: =SUM(C25:AG25) -> 0
A26: Total Days | C26: =SUM(C11:C19) -> 0 | D26: =SUM(D11:D19) -> 0 | E26: =SUM(E11:E19) -> 0 | F26: =SUM(F11:F19) -> 0 | G26: =SUM(G11:G19) -> 0 | H26: =SUM(H11:H19) -> 0 | I26: =SUM(I11:I19) -> 0 | J26: =SUM(J11:J19) -> 0 | ... AF26: =SUM(AF11:AF19) -> 0 | AH26: =SUM(AH11:AH19)/12+AH21+AH22+AH23+AH24+AH25 -> 0
A28: Activity Summary | AE28: DIL Carried Over | AG28: Total | AH28: =March!AH31 -> 0
AE29: DIL Earnt | AG29: Total | AH29: =AH20 -> 0
AE30: DIL Taken | AG30: Total | AH30: =AH21 -> 0
AE31: DIL Balance | AH31: =SUM(AH28:AH29)-AH30 -> 0
A33: Authorisation
A34: Employee Signature | I34: Date | N34: Manager Signature | AD34: Date
A37: Department | B37: Human Resources | F37: Current Issue Date | L37: October 2014 | U37: Document No | Z37: GX-HRM-FRM Timesheet Monthly
A38: Reviewed by | B38: Human Resources | F38: Next Review Date | L38: January 2016 | U38: Version No | Z38: 1
A39: Approved by | B39: Managing Director | F39: Risk Rating | L39: Low | U39: Initial Issue Date | Z39: October 2014

Sheet May
A1: MONTHLY TIMESHEET - SALARIED EMPLOYEES
A2: This document is UNCONTROLLED in hard copy format
A4: Employee Details
A5: Employee Name | B5: =April!B5 -> 0 | O5: Pay Period | S5: May 2024
A6: Position | B6: =January!B6 -> 0 | O6: Supervisor
C7: Omni GeoX | Q7: Other (please specify)
A9: Please mark applicable hours (12)
A10: Description / Project | B10: Cost Centre | C10: 1 | D10: 2 | E10: 3 | F10: 4 | G10: 5 | H10: 6 | I10: 7 | J10: 8 | K10: 9 | L10: 10 | M10: 11 | N10: 12 | O10: 13 | P10: 14 | Q10: 15 | R10: 16 | S10: 17 | T10: 18 | U10: 19 | V10: 20 | W10: 21 | X10: 22 | Y10: 23 | Z10: 24 | AA10: 25 | AB10: 26 | AC10: 27 | AD10: 28 | AE10: 29 | AF10: 30 | AG10: 31 | AH10: Total
AH11: =SUM(C11:AG11) -> 0
AH12: =SUM(C12:AG12) -> 0
AH13: =SUM(C13:AG13) -> 0
AH14: =SUM(C14:AG14) -> 0
AH15: =SUM(C15:AG15) -> 0
AH16: =SUM(C16:AG16) -> 0
AH17: =SUM(C17:AG17) -> 0
AH18: =SUM(C18:AG18) -> 0
AH19: =SUM(C19:AG19) -> 0
A20: DAYS IN LIEU EARNT | AH20: =SUM(C20:AG20) -> 0
A21: DAYS IN LIEU TAKEN | AH21: =SUM(C21:AG21) -> 0
A22: ANNUAL LEAVE | AH22: =SUM(C22:AG22) -> 0
A23: PERSONAL (SICK) LEAVE | AH23: =SUM(C23:AG23) -> 0
A24: TRAINING | AH24: =SUM(C24:AG24) -> 0
A25: OTHER | AH25: =SUM(C25:AG25) -> 0
A26: Total Days | C26: =SUM(C11:C19) -> 0 | D26: =SUM(D11:D19) -> 0 | E26: =SUM(E11:E19) -> 0 | F26: =SUM(F11:F19) -> 0 | G26: =SUM(G11:G19) -> 0 | H26: =SUM(H11:H19) -> 0 | I26: =SUM(I11:I19) -> 0 | J26: =SUM(J11:J19) -> 0 | ... AG26: =SUM(AG11:AG19) -> 0 | AH26: =SUM(AH11:AH19)/12+AH21+AH22+AH23+AH24+AH25 -> 0
A28: Activity Summary | AE28: DIL Carried Over | AG28: Total | AH28: =April!AH31 -> 0
AE29: DIL Earnt | AG29: Total | AH29: =AH20 -> 0
AE30: DIL Taken | AG30: Total | AH30: =AH21 -> 0
AE31: DIL Balance | AH31: =SUM(AH28:AH29)-AH30 -> 0
A33: Authorisation
A34: Employee Signature | I34: Date | N34: Manager Signature | AD34: Date
A37: Department | B37: Human Resources | F37: Current Issue Date | L37: October 2014 | U37: Document No | Z37: GX-HRM-FRM Timesheet Monthly
A38: Reviewed by | B38: Human Resources | F38: Next Review Date | L38: January 2016 | U38: Version No | Z38: 1
A39: Approved by | B39: Managing Director | F39: Risk Rating | L39: Low | U39: Initial Issue Date | Z39: October 2014

Sheet June
A1: MONTHLY TIMESHEET - SALARIED EMPLOYEES
A2: This document is UNCONTROLLED in hard copy format
A4: Employee Details
A5: Employee Name | B5: =May!B5 -> 0 | O5: Pay Period | S5: June 2024
A6: Position | B6: =January!B6 -> 0 | O6: Supervisor
C7: Omni GeoX | Q7: Other (please specify)
A9: Please mark applicable hours (12)
A10: Description / Project | B10: Cost Centre | C10: 1 | D10: 2 | E10: 3 | F10: 4 | G10: 5 | H10: 6 | I10: 7 | J10: 8 | K10: 9 | L10: 10 | M10: 11 | N10: 12 | O10: 13 | P10: 14 | Q10: 15 | R10: 16 | S10: 17 | T10: 18 | U10: 19 | V10: 20 | W10: 21 | X10: 22 | Y10: 23 | Z10: 24 | AA10: 25 | AB10: 26 | AC10: 27 | AD10: 28 | AE10: 29 | AF10: 30 | AG10: 31 | AH10: Total
AH11: =SUM(C11:AG11) -> 0
AH12: =SUM(C12:AG12) -> 0
AH13: =SUM(C13:AG13) -> 0
AH14: =SUM(C14:AG14) -> 0
AH15: =SUM(C15:AG15) -> 0
AH16: =SUM(C16:AG16) -> 0
AH17: =SUM(C17:AG17) -> 0
AH18: =SUM(C18:AG18) -> 0
AH19: =SUM(C19:AG19) -> 0
A20: DAYS IN LIEU EARNT | AH20: =SUM(C20:AG20) -> 0
A21: DAYS IN LIEU TAKEN | AH21: =SUM(C21:AG21) -> 0
A22: ANNUAL LEAVE | AH22: =SUM(C22:AG22) -> 0
A23: PERSONAL (SICK) LEAVE | AH23: =SUM(C23:AG23) -> 0
A24: TRAINING | AH24: =SUM(C24:AG24) -> 0
A25: OTHER | AH25: =SUM(C25:AG25) -> 0
A26: Total Days | C26: =SUM(C11:C19) -> 0 | D26: =SUM(D11:D19) -> 0 | E26: =SUM(E11:E19) -> 0 | F26: =SUM(F11:F19) -> 0 | G26: =SUM(G11:G19) -> 0 | H26: =SUM(H11:H19) -> 0 | I26: =SUM(I11:I19) -> 0 | J26: =SUM(J11:J19) -> 0 | ... AF26: =SUM(AF11:AF19) -> 0 | AH26: =SUM(AH11:AH19)/12+AH21+AH22+AH23+AH24+AH25 -> 0
A28: Activity Summary | AE28: DIL Carried Over | AG28: Total | AH28: =May!AH31 -> 0
AE29: DIL Earnt | AG29: Total | AH29: =AH20 -> 0
AE30: DIL Taken | AG30: Total | AH30: =AH21 -> 0
AE31: DIL Balance | AH31: =SUM(AH28:AH29)-AH30 -> 0
A33: Authorisation
A34: Employee Signature | I34: Date | N34: Manager Signature | AD34: Date
A37: Department | B37: Human Resources | F37: Current Issue Date | L37: October 2014 | U37: Document No | Z37: GX-HRM-FRM Timesheet Monthly
A38: Reviewed by | B38: Human Resources | F38: Next Review Date | L38: January 2016 | U38: Version No | Z38: 1
A39: Approved by | B39: Managing Director | F39: Risk Rating | L39: Low | U39: Initial Issue Date | Z39: October 2014

Sheet July
A1: MONTHLY TIMESHEET - SALARIED EMPLOYEES
A2: This document is UNCONTROLLED in hard copy format
A4: Employee Details
A5: Employee Name | B5: =June!B5 -> 0 | O5: Pay Period | S5: July 2024
A6: Position | B6: =January!B6 -> 0 | O6: Supervisor
C7: Omni GeoX | Q7: Other (please specify)
A9: Please mark applicable hours (12)
A10: Description / Project | B10: Cost Centre | C10: 1 | D10: 2 | E10: 3 | F10: 4 | G10: 5 | H10: 6 | I10: 7 | J10: 8 | K10: 9 | L10: 10 | M10: 11 | N10: 12 | O10: 13 | P10: 14 | Q10: 15 | R10: 16 | S10: 17 | T10: 18 | U10: 19 | V10: 20 | W10: 21 | X10: 22 | Y10: 23 | Z10: 24 | AA10: 25 | AB10: 26 | AC10: 27 | AD10: 28 | AE10: 29 | AF10: 30 | AG10: 31 | AH10: Total
AH11: =SUM(C11:AG11) -> 0
AH12: =SUM(C12:AG12) -> 0
AH13: =SUM(C13:AG13) -> 0
AH14: =SUM(C14:AG14) -> 0
AH15: =SUM(C15:AG15) -> 0
AH16: =SUM(C16:AG16) -> 0
AH17: =SUM(C17:AG17) -> 0
AH18: =SUM(C18:AG18) -> 0
AH19: =SUM(C19:AG19) -> 0
A20: DAYS IN LIEU EARNT | AH20: =SUM(C20:AG20) -> 0
A21: DAYS IN LIEU TAKEN | AH21: =SUM(C21:AG21) -> 0
A22: ANNUAL LEAVE | AH22: =SUM(C22:AG22) -> 0
A23: PERSONAL (SICK) LEAVE | AH23: =SUM(C23:AG23) -> 0
A24: TRAINING | AH24: =SUM(C24:AG24) -> 0
A25: OTHER | AH25: =SUM(C25:AG25) -> 0
A26: Total Days | C26: =SUM(C11:C19) -> 0 | D26: =SUM(D11:D19) -> 0 | E26: =SUM(E11:E19) -> 0 | F26: =SUM(F11:F19) -> 0 | G26: =SUM(G11:G19) -> 0 | H26: =SUM(H11:H19) -> 0 | I26: =SUM(I11:I19) -> 0 | J26: =SUM(J11:J19) -> 0 | ... AG26: =SUM(AG11:AG19) -> 0 | AH26: =SUM(AH11:AH19)/12+AH21+AH22+AH23+AH24+AH25 -> 0
A28: Activity Summary | AE28: DIL Carried Over | AG28: Total | AH28: =June!AH31 -> 0
AE29: DIL Earnt | AG29: Total | AH29: =AH20 -> 0
AE30: DIL Taken | AG30: Total | AH30: =AH21 -> 0
AE31: DIL Balance | AH31: =SUM(AH28:AH29)-AH30 -> 0
A33: Authorisation
A34: Employee Signature | I34: Date | N34: Manager Signature | AD34: Date
A37: Department | B37: Human Resources | F37: Current Issue Date | L37: October 2014 | U37: Document No | Z37: GX-HRM-FRM Timesheet Monthly
A38: Reviewed by | B38: Human Resources | F38: Next Review Date | L38: January 2016 | U38: Version No | Z38: 1
A39: Approved by | B39: Managing Director | F39: Risk Rating | L39: Low | U39: Initial Issue Date | Z39: October 2014

Sheet August
A1: MONTHLY TIMESHEET - SALARIED EMPLOYEES
A2: This document is UNCONTROLLED in hard copy format
A4: Employee Details
A5: Employee Name | B5: =June!B5 -> 0 | O5: Pay Period | S5: August 2024
A6: Position | B6: =January!B6 -> 0 | O6: Supervisor
C7: Omni GeoX | Q7: Other (please specify)
A9: Please mark applicable hours (12)
A10: Description / Project | B10: Cost Centre | C10: 1 | D10: 2 | E10: 3 | F10: 4 | G10: 5 | H10: 6 | I10: 7 | J10: 8 | K10: 9 | L10: 10 | M10: 11 | N10: 12 | O10: 13 | P10: 14 | Q10: 15 | R10: 16 | S10: 17 | T10: 18 | U10: 19 | V10: 20 | W10: 21 | X10: 22 | Y10: 23 | Z10: 24 | AA10: 25 | AB10: 26 | AC10: 27 | AD10: 28 | AE10: 29 | AF10: 30 | AG10: 31 | AH10: Total
AH11: =SUM(C11:AG11) -> 0
AH12: =SUM(C12:AG12) -> 0
AH13: =SUM(C13:AG13) -> 0
AH14: =SUM(C14:AG14) -> 0
AH15: =SUM(C15:AG15) -> 0
AH16: =SUM(C16:AG16) -> 0
AH17: =SUM(C17:AG17) -> 0
AH18: =SUM(C18:AG18) -> 0
AH19: =SUM(C19:AG19) -> 0
A20: DAYS IN LIEU EARNT | AH20: =SUM(C20:AG20) -> 0
A21: DAYS IN LIEU TAKEN | AH21: =SUM(C21:AG21) -> 0
A22: ANNUAL LEAVE | AH22: =SUM(C22:AG22) -> 0
A23: PERSONAL (SICK) LEAVE | AH23: =SUM(C23:AG23) -> 0
A24: TRAINING | AH24: =SUM(C24:AG24) -> 0
A25: OTHER | AH25: =SUM(C25:AG25) -> 0
A26: Total Days | C26: =SUM(C11:C19) -> 0 | D26: =SUM(D11:D19) -> 0 | E26: =SUM(E11:E19) -> 0 | F26: =SUM(F11:F19) -> 0 | G26: =SUM(G11:G19) -> 0 | H26: =SUM(H11:H19) -> 0 | I26: =SUM(I11:I19) -> 0 | J26: =SUM(J11:J19) -> 0 | ... AG26: =SUM(AG11:AG19) -> 0 | AH26: =SUM(AH11:AH19)/12+AH21+AH22+AH23+AH24+AH25 -> 0
A28: Activity Summary | B28: Work from home at beginnng of month involved working on Javelin project, QGIS, reports, career progression zoom call with Jay | AE28: DIL Carried Over | AG28: Total | AH28: =July!AH31 -> 0
AE29: DIL Earnt | AG29: Total | AH29: =AH20 -> 0
AE30: DIL Taken | AG30: Total | AH30: =AH21 -> 0
AE31: DIL Balance | AH31: =SUM(AH28:AH29)-AH30 -> 0
A33: Authorisation
A34: Employee Signature | B34: Neal Boyle | I34: Date | K34: 29/08/2023 | N34: Manager Signature | AD34: Date
A37: Department | B37: Human Resources | F37: Current Issue Date | L37: October 2014 | U37: Document No | Z37: GX-HRM-FRM Timesheet Monthly
A38: Reviewed by | B38: Human Resources | F38: Next Review Date | L38: January 2016 | U38: Version No | Z38: 1
A39: Approved by | B39: Managing Director | F39: Risk Rating | L39: Low | U39: Initial Issue Date | Z39: October 2014

Sheet September
A1: MONTHLY TIMESHEET - SALARIED EMPLOYEES
A2: This document is UNCONTROLLED in hard copy format
A4: Employee Details
A5: Employee Name | B5: =August!B5 -> 0 | O5: Pay Period | S5: September 2024
A6: Position | B6: =January!B6 -> 0 | O6: Supervisor
C7: Omni GeoX | Q7: Other (please specify)
A9: Please mark applicable hours (12)
A10: Description / Project | B10: Cost Centre | C10: 1 | D10: 2 | E10: 3 | F10: 4 | G10: 5 | H10: 6 | I10: 7 | J10: 8 | K10: 9 | L10: 10 | M10: 11 | N10: 12 | O10: 13 | P10: 14 | Q10: 15 | R10: 16 | S10: 17 | T10: 18 | U10: 19 | V10: 20 | W10: 21 | X10: 22 | Y10: 23 | Z10: 24 | AA10: 25 | AB10: 26 | AC10: 27 | AD10: 28 | AE10: 29 | AF10: 30 | AG10: 31 | AH10: Total
AH11: =SUM(C11:AG11) -> 0
AH12: =SUM(C12:AG12) -> 0
AH13: =SUM(C13:AG13) -> 0
AH14: =SUM(C14:AG14) -> 0
AH15: =SUM(C15:AG15) -> 0
AH16: =SUM(C16:AG16) -> 0
AH17: =SUM(C17:AG17) -> 0
AH18: =SUM(C18:AG18) -> 0
AH19: =SUM(C19:AG19) -> 0
A20: DAYS IN LIEU EARNT | AH20: =SUM(C20:AG20) -> 0
A21: DAYS IN LIEU TAKEN | AH21: =SUM(C21:AG21) -> 0
A22: ANNUAL LEAVE | AH22: =SUM(C22:AG22) -> 0
A23: PERSONAL (SICK) LEAVE | AH23: =SUM(C23:AG23) -> 0
A24: TRAINING | AH24: =SUM(C24:AG24) -> 0
A25: OTHER | AH25: =SUM(C25:AG25) -> 0
A26: Total Days | C26: =SUM(C11:C19) -> 0 | D26: =SUM(D11:D19) -> 0 | E26: =SUM(E11:E19) -> 0 | F26: =SUM(F11:F19) -> 0 | G26: =SUM(G11:G19) -> 0 | H26: =SUM(H11:H19) -> 0 | I26: =SUM(I11:I19) -> 0 | J26: =SUM(J11:J19) -> 0 | ... AF26: =SUM(AF11:AF19) -> 0 | AH26: =SUM(AH11:AH19)/12+AH21+AH22+AH23+AH24+AH25 -> 0
A28: Activity Summary | AE28: DIL Carried Over | AG28: Total | AH28: =August!AH31 -> 0
AE29: DIL Earnt | AG29: Total | AH29: =AH20 -> 0
AE30: DIL Taken | AG30: Total | AH30: =AH21 -> 0
AE31: DIL Balance | AH31: =SUM(AH28:AH29)-AH30 -> 0
A33: Authorisation
A34: Employee Signature | I34: Date | N34: Manager Signature | AD34: Date
A37: Department | B37: Human Resources | F37: Current Issue Date | L37: October 2014 | U37: Document No | Z37: GX-HRM-FRM Timesheet Monthly
A38: Reviewed by | B38: Human Resources | F38: Next Review Date | L38: January 2016 | U38: Version No | Z38: 1
A39: Approved by | B39: Managing Director | F39: Risk Rating | L39: Low | U39: Initial Issue Date | Z39: October 2014

Sheet October
A1: MONTHLY TIMESHEET - SALARIED EMPLOYEES
A2: This document is UNCONTROLLED in hard copy format
A4: Employee Details
A5: Employee Name | B5: =September!B5 -> 0 | O5: Pay Period | S5: October 2024
A6: Position | B6: =January!B6 -> 0 | O6: Supervisor
C7: Omni GeoX | Q7: Other (please specify)
A9: Please mark applicable hours (12)
A10: Description / Project | B10: Cost Centre | C10: 1 | D10: 2 | E10: 3 | F10: 4 | G10: 5 | H10: 6 | I10: 7 | J10: 8 | K10: 9 | L10: 10 | M10: 11 | N10: 12 | O10: 13 | P10: 14 | Q10: 15 | R10: 16 | S10: 17 | T10: 18 | U10: 19 | V10: 20 | W10: 21 | X10: 22 | Y10: 23 | Z10: 24 | AA10: 25 | AB10: 26 | AC10: 27 | AD10: 28 | AE10: 29 | AF10: 30 | AG10: 31 | AH10: Total
AH11: =SUM(C11:AG11) -> 0
AH12: =SUM(C12:AG12) -> 0
AH13: =SUM(C13:AG13) -> 0
AH14: =SUM(C14:AG14) -> 0
AH15: =SUM(C15:AG15) -> 0
AH16: =SUM(C16:AG16) -> 0
AH17: =SUM(C17:AG17) -> 0
AH18: =SUM(C18:AG18) -> 0
AH19: =SUM(C19:AG19) -> 0
A20: DAYS IN LIEU EARNT | AH20: =SUM(C20:AG20) -> 0
A21: DAYS IN LIEU TAKEN | AH21: =SUM(C21:AG21) -> 0
A22: ANNUAL LEAVE | AH22: =SUM(C22:AG22) -> 0
A23: PERSONAL (SICK) LEAVE | AH23: =SUM(C23:AG23) -> 0
A24: TRAINING | AH24: =SUM(C24:AG24) -> 0
A25: OTHER | AH25: =SUM(C25:AG25) -> 0
A26: Total Days | C26: =SUM(C11:C19) -> 0 | D26: =SUM(D11:D19) -> 0 | E26: =SUM(E11:E19) -> 0 | F26: =SUM(F11:F19) -> 0 | G26: =SUM(G11:G19) -> 0 | H26: =SUM(H11:H19) -> 0 | I26: =SUM(I11:I19) -> 0 | J26: =SUM(J11:J19) -> 0 | ... AG26: =SUM(AG11:AG19) -> 0 | AH26: =SUM(AH11:AH19)/12+AH21+AH22+AH23+AH24+AH25 -> 0
A28: Activity Summary | AE28: DIL Carried Over | AG28: Total | AH28: =September!AH31 -> 0
AE29: DIL Earnt | AG29: Total | AH29: =AH20 -> 0
AE30: DIL Taken | AG30: Total | AH30: =AH21 -> 0
AE31: DIL Balance | AH31: =SUM(AH28:AH29)-AH30 -> 0
A33: Authorisation
A34: Employee Signature | I34: Date | N34: Manager Signature | AD34: Date
A37: Department | B37: Human Resources | F37: Current Issue Date | L37: October 2014 | U37: Document No | Z37: GX-HRM-FRM Timesheet Monthly
A38: Reviewed by | B38: Human Resources | F38: Next Review Date | L38: January 2016 | U38: Version No | Z38: 1
A39: Approved by | B39: Managing Director | F39: Risk Rating | L39: Low | U39: Initial Issue Date | Z39: October 2014

Sheet November
A1: MONTHLY TIMESHEET - SALARIED EMPLOYEES
A2: This document is UNCONTROLLED in hard copy format
A4: Employee Details
A5: Employee Name | B5: =October!B5 -> 0 | O5: Pay Period | S5: November 2024
A6: Position | B6: =January!B6 -> 0 | O6: Supervisor
C7: Omni GeoX | Q7: Other (please specify)
A9: Please mark applicable hours (12)
A10: Description / Project | B10: Cost Centre | C10: 1 | D10: 2 | E10: 3 | F10: 4 | G10: 5 | H10: 6 | I10: 7 | J10: 8 | K10: 9 | L10: 10 | M10: 11 | N10: 12 | O10: 13 | P10: 14 | Q10: 15 | R10: 16 | S10: 17 | T10: 18 | U10: 19 | V10: 20 | W10: 21 | X10: 22 | Y10: 23 | Z10: 24 | AA10: 25 | AB10: 26 | AC10: 27 | AD10: 28 | AE10: 29 | AF10: 30 | AG10: 31 | AH10: Total
AH11: =SUM(C11:AG11) -> 0
AH12: =SUM(C12:AG12) -> 0
AH13: =SUM(C13:AG13) -> 0
AH14: =SUM(C14:AG14) -> 0
AH15: =SUM(C15:AG15) -> 0
AH16: =SUM(C16:AG16) -> 0
AH17: =SUM(C17:AG17) -> 0
AH18: =SUM(C18:AG18) -> 0
AH19: =SUM(C19:AG19) -> 0
A20: DAYS IN LIEU EARNT | AH20: =SUM(C20:AG20) -> 0
A21: DAYS IN LIEU TAKEN | AH21: =SUM(C21:AG21) -> 0
A22: ANNUAL LEAVE | AH22: =SUM(C22:AG22) -> 0
A23: PERSONAL (SICK) LEAVE | AH23: =SUM(C23:AG23) -> 0
A24: TRAINING | AH24: =SUM(C24:AG24) -> 0
A25: OTHER | AH25: =SUM(C25:AG25) -> 0
A26: Total Days | C26: =SUM(C11:C19) -> 0 | D26: =SUM(D11:D19) -> 0 | E26: =SUM(E11:E19) -> 0 | F26: =SUM(F11:F19) -> 0 | G26: =SUM(G11:G19) -> 0 | H26: =SUM(H11:H19) -> 0 | I26: =SUM(I11:I19) -> 0 | J26: =SUM(J11:J19) -> 0 | ... AF26: =SUM(AF11:AF19) -> 0 | AH26: =SUM(AH11:AH19)/12+AH21+AH22+AH23+AH24+AH25 -> 0
A28: Activity Summary | AE28: DIL Carried Over | AG28: Total | AH28: =October!AH31 -> 0
AE29: DIL Earnt | AG29: Total | AH29: =AH20 -> 0
AE30: DIL Taken | AG30: Total | AH30: =AH21 -> 0
AE31: DIL Balance | AH31: =SUM(AH28:AH29)-AH30 -> 0
A33: Authorisation
A34: Employee Signature | I34: Date | N34: Manager Signature | AD34: Date
A37: Department | B37: Human Resources | F37: Current Issue Date | L37: October 2014 | U37: Document No | Z37: GX-HRM-FRM Timesheet Monthly
A38: Reviewed by | B38: Human Resources | F38: Next Review Date | L38: January 2016 | U38: Version No | Z38: 1
A39: Approved by | B39: Managing Director | F39: Risk Rating | L39: Low | U39: Initial Issue Date | Z39: October 2014

Sheet December
A1: MONTHLY TIMESHEET - SALARIED EMPLOYEES
A2: This document is UNCONTROLLED in hard copy format
A4: Employee Details
A5: Employee Name | B5: =November!B5 -> 0 | O5: Pay Period | S5: December 2024
A6: Position | B6: =January!B6 -> 0 | O6: Supervisor
C7: Omni GeoX | Q7: Other (please specify)
A9: Please mark applicable hours (12)
A10: Description / Project | B10: Cost Centre | C10: 1 | D10: 2 | E10: 3 | F10: 4 | G10: 5 | H10: 6 | I10: 7 | J10: 8 | K10: 9 | L10: 10 | M10: 11 | N10: 12 | O10: 13 | P10: 14 | Q10: 15 | R10: 16 | S10: 17 | T10: 18 | U10: 19 | V10: 20 | W10: 21 | X10: 22 | Y10: 23 | Z10: 24 | AA10: 25 | AB10: 26 | AC10: 27 | AD10: 28 | AE10: 29 | AF10: 30 | AG10: 31 | AH10: Total
AH11: =SUM(C11:AG11) -> 0
AH12: =SUM(C12:AG12) -> 0
AH13: =SUM(C13:AG13) -> 0
AH14: =SUM(C14:AG14) -> 0
AH15: =SUM(C15:AG15) -> 0
AH16: =SUM(C16:AG16) -> 0
AH17: =SUM(C17:AG17) -> 0
AH18: =SUM(C18:AG18) -> 0
AH19: =SUM(C19:AG19) -> 0
A20: DAYS IN LIEU EARNT | AH20: =SUM(C20:AG20) -> 0
A21: DAYS IN LIEU TAKEN | AH21: =SUM(C21:AG21) -> 0
A22: ANNUAL LEAVE | AH22: =SUM(C22:AG22) -> 0
A23: PERSONAL (SICK) LEAVE | AH23: =SUM(C23:AG23) -> 0
A24: TRAINING | AH24: =SUM(C24:AG24) -> 0
A25: OTHER | AH25: =SUM(C25:AG25) -> 0
A26: Total Days | C26: =SUM(C11:C19) -> 0 | D26: =SUM(D11:D19) -> 0 | E26: =SUM(E11:E19) -> 0 | F26: =SUM(F11:F19) -> 0 | G26: =SUM(G11:G19) -> 0 | H26: =SUM(H11:H19) -> 0 | I26: =SUM(I11:I19) -> 0 | J26: =SUM(J11:J19) -> 0 | ... AG26: =SUM(AG11:AG19) -> 0 | AH26: =SUM(AH11:AH19)/12+AH21+AH22+AH23+AH24+AH25 -> 0
A28: Activity Summary | AE28: DIL Carried Over | AG28: Total | AH28: =November!AH31 -> 0
AE29: DIL Earnt | AG29: Total | AH29: =AH20 -> 0
AE30: DIL Taken | AG30: Total | AH30: =AH21 -> 0
AE31: DIL Balance | AH31: =SUM(AH28:AH29)-AH30 -> 0
A33: Authorisation
A34: Employee Signature | I34: Date | N34: Manager Signature | AD34: Date
A37: Department | B37: Human Resources | F37: Current Issue Date | L37: October 2014 | U37: Document No | Z37: GX-HRM-FRM Timesheet Monthly
A38: Reviewed by | B38: Human Resources | F38: Next Review Date | L38: January 2016 | U38: Version No | Z38: 1
A39: Approved by | B39: Managing Director | F39: Risk Rating | L39: Low | U39: Initial Issue Date | Z39: October 2014
